BEGIN:VCALENDAR
VERSION:2.0
PRODID:-//TV Bühlertal - ECPv4.9.13//NONSGML v1.0//EN
CALSCALE:GREGORIAN
METHOD:PUBLISH
X-WR-CALNAME:TV Bühlertal
X-ORIGINAL-URL:https://tv-buehlertal.de
X-WR-CALDESC:Veranstaltungen im TV Bühlertal
BEGIN:VTIMEZONE
TZID:Europe/Berlin
BEGIN:DAYLIGHT
TZOFFSETFROM:+0100
TZOFFSETTO:+0200
TZNAME:CEST
DTSTART:20260329T010000
END:DAYLIGHT
BEGIN:STANDARD
TZOFFSETFROM:+0200
TZOFFSETTO:+0100
TZNAME:CET
DTSTART:20261025T010000
END:STANDARD
END:VTIMEZONE
BEGIN:VEVENT
DTSTART;TZID=Europe/Berlin:20261018T100000
DTEND;TZID=Europe/Berlin:20261018T160000
DTSTAMP:20260419T120821
CREATED:20260102T164321Z
LAST-MODIFIED:20260102T170645Z
UID:14234-1792317600-1792339200@tv-buehlertal.de
SUMMARY:Gauliga Vorkämpfe Pflichtübung männlich + LK 4 weiblich
DESCRIPTION:
URL:https://tv-buehlertal.de/veranstaltung/gauliga-vorkaempfe-maennlich/
LOCATION:Bühlertal-Mittelberghalle\, Bühlertal-Mittelberghalle\, Bühlertal\, 77830
ORGANIZER;CN="Turngau%20Mittelbaden-Murgtal":MAILTO:turngau-mittelbaden-murgtal@t-online.de
END:VEVENT
END:VCALENDAR